BEGIN:VCALENDAR
VERSION:2.0
PRODID:-//Waverley &amp; District Anglers - ECPv6.15.20//NONSGML v1.0//EN
CALSCALE:GREGORIAN
METHOD:PUBLISH
X-WR-CALNAME:Waverley &amp; District Anglers
X-ORIGINAL-URL:https://waverleyanglers.com.au
X-WR-CALDESC:Events for Waverley &amp; District Anglers
REFRESH-INTERVAL;VALUE=DURATION:PT1H
X-Robots-Tag:noindex
X-PUBLISHED-TTL:PT1H
BEGIN:VTIMEZONE
TZID:UTC
BEGIN:STANDARD
TZOFFSETFROM:+0000
TZOFFSETTO:+0000
TZNAME:UTC
DTSTART:20250101T000000
END:STANDARD
END:VTIMEZONE
BEGIN:VEVENT
DTSTART;VALUE=DATE:20260403
DTEND;VALUE=DATE:20260408
DTSTAMP:20260425T010435
CREATED:20190324T135818Z
LAST-MODIFIED:20260331T032731Z
UID:2538-1775174400-1775606399@waverleyanglers.com.au
SUMMARY:Please Note the Easter Loddon River Fishing & Camping trip has been cancelled.
DESCRIPTION:Please note that the Proposed Annual Easter Camping / Fishing trip camping on Private property has been cancelled due to the lack of numbers and a COVID outbreak across multiple key participants. \nCamping at the junction of the Loddon River and Waranga Channel Lagoona Road @ Bears Lagoon. \nBYO Camping equipment\, food\, drinking water and Fishing Gear for – carp\, cod & yellow belly etc (inc shrimp nets). \nApart from fishing\, the opportunity to:   \n    – observe farming activities- cropping\, sheep and cattle etc etc. \nApologies for any inconvenience caused. \nMeantime we wish all a Very Merry and Holy Easter. \n  \n 
URL:https://waverleyanglers.com.au/event/easter-goulburn-river-trip/
LOCATION:Bears Lagoon\, Lagoona Road\, Serpentine\, Vic\, Australia
END:VEVENT
END:VCALENDAR